BEGIN:VCALENDAR
VERSION:2.0
PRODID:-//Atelier Laines d&#039;Europe - ECPv6.15.20//NONSGML v1.0//EN
CALSCALE:GREGORIAN
METHOD:PUBLISH
X-ORIGINAL-URL:https://atelierlainesdeurope.eu
X-WR-CALDESC:Évènements pour Atelier Laines d&#039;Europe
REFRESH-INTERVAL;VALUE=DURATION:PT1H
X-Robots-Tag:noindex
X-PUBLISHED-TTL:PT1H
BEGIN:VTIMEZONE
TZID:Europe/Paris
BEGIN:DAYLIGHT
TZOFFSETFROM:+0100
TZOFFSETTO:+0200
TZNAME:CEST
DTSTART:20200329T010000
END:DAYLIGHT
BEGIN:STANDARD
TZOFFSETFROM:+0200
TZOFFSETTO:+0100
TZNAME:CET
DTSTART:20201025T010000
END:STANDARD
BEGIN:DAYLIGHT
TZOFFSETFROM:+0100
TZOFFSETTO:+0200
TZNAME:CEST
DTSTART:20210328T010000
END:DAYLIGHT
BEGIN:STANDARD
TZOFFSETFROM:+0200
TZOFFSETTO:+0100
TZNAME:CET
DTSTART:20211031T010000
END:STANDARD
BEGIN:DAYLIGHT
TZOFFSETFROM:+0100
TZOFFSETTO:+0200
TZNAME:CEST
DTSTART:20220327T010000
END:DAYLIGHT
BEGIN:STANDARD
TZOFFSETFROM:+0200
TZOFFSETTO:+0100
TZNAME:CET
DTSTART:20221030T010000
END:STANDARD
BEGIN:DAYLIGHT
TZOFFSETFROM:+0100
TZOFFSETTO:+0200
TZNAME:CEST
DTSTART:20230326T010000
END:DAYLIGHT
BEGIN:STANDARD
TZOFFSETFROM:+0200
TZOFFSETTO:+0100
TZNAME:CET
DTSTART:20231029T010000
END:STANDARD
END:VTIMEZONE
BEGIN:VEVENT
DTSTART;VALUE=DATE:20210601
DTEND;VALUE=DATE:20220219
DTSTAMP:20260423T125947
CREATED:20210404T183735Z
LAST-MODIFIED:20210508T160622Z
UID:16445-1622505600-1645228799@atelierlainesdeurope.eu
SUMMARY:Robes politiques - Frauen Macht Mode
DESCRIPTION:Exposition au Textilmuseum de Saint Gall (Suisse) \ndu 19 mars 2021 au 6 juin 2022 \nCinquantenaire du droit de vote des femmes en Suisse : à l’occasion de cet anniversaire\, le Musée du Textile présente des vêtements et accessoires datant de 1600 à nos jours\, symbolisant la revendication et la représentation féminines du pouvoir dans une société\, un paysage politique et une mode en mutation.
URL:https://atelierlainesdeurope.eu/evenement/robes-politiques-frauen-macht-mode/
LOCATION:Saint Gall\, Saint Gall\, 9000\, Suisse
CATEGORIES:Expositions
END:VEVENT
BEGIN:VEVENT
DTSTART;VALUE=DATE:20210601
DTEND;VALUE=DATE:20211108
DTSTAMP:20260423T125947
CREATED:20210423T174239Z
LAST-MODIFIED:20210508T160550Z
UID:16473-1622505600-1636329599@atelierlainesdeurope.eu
SUMMARY:Exposition "Les plaisirs de la table. Damas de lins anciens"
DESCRIPTION:Exposition à la Fondation Abegg\, à Riggisberg  (Suisse) \ndu 25 avril au 7 novembre 2021 \nDepuis la fin du Moyen Âge\, il n’y a pas de repas de fête sans linge de table à motifs. \nNappes\, serviettes et essuie-mains en lin blanc montrent des compositions discrètes mais réalisées avec grand art  et des armoiries de famille. Ces damas faisaient le prestige de la table des maisons princières ou bourgeoises. \n 
URL:https://atelierlainesdeurope.eu/evenement/exposition-les-plaisirs-de-la-table-damas-de-lins-anciens/
LOCATION:Riggisberg\, Riggisberg\, 3132\, Suisse
CATEGORIES:Expositions
ATTACH;FMTTYPE=image/jpeg:https://atelierlainesdeurope.eu/wp-content/uploads/2021/04/Abegg-Stftung-2021.jpg
END:VEVENT
END:VCALENDAR